BEGIN:VCALENDAR
VERSION:2.0
PRODID:-//Holiday rentals in Majorca |Home Villas 360 - ECPv6.15.20//NONSGML v1.0//EN
CALSCALE:GREGORIAN
METHOD:PUBLISH
X-ORIGINAL-URL:https://www.homevillas360.com
X-WR-CALDESC:Events for Holiday rentals in Majorca |Home Villas 360
REFRESH-INTERVAL;VALUE=DURATION:PT1H
X-Robots-Tag:noindex
X-PUBLISHED-TTL:PT1H
BEGIN:VTIMEZONE
TZID:UTC
BEGIN:STANDARD
TZOFFSETFROM:+0000
TZOFFSETTO:+0000
TZNAME:UTC
DTSTART:20250101T000000
END:STANDARD
END:VTIMEZONE
BEGIN:VEVENT
DTSTART;TZID=UTC:20260425T080000
DTEND;TZID=UTC:20260425T170000
DTSTAMP:20260422T115704
CREATED:20260330T082645Z
LAST-MODIFIED:20260402T090742Z
UID:3047-1777104000-1777136400@www.homevillas360.com
SUMMARY:Mallorca 312: The Ultimate Cycling Challenge
DESCRIPTION:Where is the event held?\nThe Mallorca 312 starts and finishes in Playa de Muro\, specifically along the Avinguda de s’Albufera. This location is just a stone’s throw from Port d’Alcúdia\, making the entire bay the absolute hub for the thousands of cyclists who gather for the race. \nWhat to expect?\nEvery April\, Mallorca becomes the world capital of cycling. This legendary event offers participants the unique chance to ride through the stunning Serra de Tramuntana (a UNESCO World Heritage site) on roads entirely closed to traffic. \nWhether you tackle the full 312km lap\, the 225km\, or the 167km route\, you will experience breathtaking coastal views\, challenging climbs\, and an electric atmosphere at the event village with professional support\, exhibitions\, and a great community feel. \nStay at the Starting Line: Cycling-friendly accommodation\nFinding the right base is crucial for a successful race. Our holiday rentals in Playa de Muro are the top choice for participants: \n\n\nPrime Location: Wake up just minutes away from the starting line in Avinguda de s’Albufera. No need for long transfers or early morning stress on the big day. \n\n\nSpace for your Gear: Large\, secure spaces to keep your bike and equipment safe and ready. \n\n\nTotal Flexibility: With your own kitchen\, you can prepare your specific pre-race meals at the time that suits your training schedule.
URL:https://www.homevillas360.com/event/mallorca-312-cycling-event/
LOCATION:Playa de Muro\, Avinguda de s'Albufera\, Playa de Muro\, Mallorca\, 07458\, Spain
ATTACH;FMTTYPE=image/webp:https://www.homevillas360.com/wp-content/uploads/2026/03/mallorca-312.webp
END:VEVENT
BEGIN:VEVENT
DTSTART;TZID=UTC:20260425T100000
DTEND;TZID=UTC:20260426T140000
DTSTAMP:20260422T115704
CREATED:20260414T063614Z
LAST-MODIFIED:20260414T064725Z
UID:3437-1777111200-1777212000@www.homevillas360.com
SUMMARY:Pollença Beats with Wine: The 2026 Wine Fair is Here
DESCRIPTION:The Fira del Vi de Pollença returns on April 25th and 26th\, 2026\, for its much-anticipated annual edition. Held in the historic and breathtaking Claustre de Sant Domingo\, this event has become a cornerstone of Mallorca’s wine culture\, bringing together local producers and wine enthusiasts from all over the world. \nUnder the motto “Pollença batega amb el Vi” (Pollença beats with wine)\, this year’s fair features 37 participating wineries from across the island\, including those from DO Binissalem\, DO Pla i Llevant\, and IGP Vi de la Terra Mallorca. Visitors will have the unique opportunity to taste nearly 250 different wines in a single location. \nPlan Your Stay in Pollença\nTo fully immerse yourself in the wine fair and the charming atmosphere of northern Mallorca\, we recommend staying locally. Whether you prefer the charm of the historic town or the sea breeze by the coast\, you can find the perfect accommodation in Puerto Pollença and surroundings to make your weekend truly unforgettable. \nEvent Highlights\n\nMeet the Producers: Talk directly with the winemakers to learn about their philosophy\, grape varieties\, and the passion behind every bottle.\nExclusive Discounts: Every entry includes a €5 discount voucher to purchase wine directly from the stands.\nCultural Atmosphere: Enjoy a weekend filled with tradition\, live music\, and professional tastings in one of Mallorca’s most beautiful towns.\n\nVisitor Information\n\nDates: Saturday 25th & Sunday 26th April\, 2026.\nOpening Hours:\n\nSaturday: 10:00 to 20:30 (Tickets available until 19:30).\nSunday: 10:00 to 14:00 (Tickets available until 13:00).\n\n\nAdmission: €15 (Purchased at the door).\n\nIncludes: Professional tasting glass + €5 discount voucher for wine purchases.\n\n\n\nSpecial Pre-Fair Events\n\nWednesday\, April 22 (19:30): Conference on “The Recovery of Malvasia” by Hipólito Medrano at the Reial Club Nàutic Port de Pollença.\nFriday\, April 24 (20:00): Official Welcome Act outside the Cloister with traditional “vi glossat” and live music.\n\nDon’t miss the chance to experience the authentic Mediterranean lifestyle through its most celebrated product. We look forward to seeing you in Pollença!
URL:https://www.homevillas360.com/event/fira-del-vi-pollenca/
LOCATION:Claustre del Convent de Sant Domingo\, Carrer de Guillem Cifre de Colonya\,0\, Pollença\, Illes Baleares\, 07460\, Spain
ATTACH;FMTTYPE=image/webp:https://www.homevillas360.com/wp-content/uploads/2026/04/feria-del-vino-pollensa.webp
END:VEVENT
END:VCALENDAR